BEGIN:VCALENDAR
VERSION:2.0
PRODID:-//Ombersley Memorial Village Hall - ECPv6.15.20//NONSGML v1.0//EN
CALSCALE:GREGORIAN
METHOD:PUBLISH
X-WR-CALNAME:Ombersley Memorial Village Hall
X-ORIGINAL-URL:https://www.ombersleymemorialhall.co.uk
X-WR-CALDESC:Events for Ombersley Memorial Village Hall
REFRESH-INTERVAL;VALUE=DURATION:PT1H
X-Robots-Tag:noindex
X-PUBLISHED-TTL:PT1H
BEGIN:VTIMEZONE
TZID:Europe/London
BEGIN:DAYLIGHT
TZOFFSETFROM:+0000
TZOFFSETTO:+0100
TZNAME:BST
DTSTART:20250330T010000
END:DAYLIGHT
BEGIN:STANDARD
TZOFFSETFROM:+0100
TZOFFSETTO:+0000
TZNAME:GMT
DTSTART:20251026T010000
END:STANDARD
BEGIN:DAYLIGHT
TZOFFSETFROM:+0000
TZOFFSETTO:+0100
TZNAME:BST
DTSTART:20260329T010000
END:DAYLIGHT
BEGIN:STANDARD
TZOFFSETFROM:+0100
TZOFFSETTO:+0000
TZNAME:GMT
DTSTART:20261025T010000
END:STANDARD
BEGIN:DAYLIGHT
TZOFFSETFROM:+0000
TZOFFSETTO:+0100
TZNAME:BST
DTSTART:20270328T010000
END:DAYLIGHT
BEGIN:STANDARD
TZOFFSETFROM:+0100
TZOFFSETTO:+0000
TZNAME:GMT
DTSTART:20271031T010000
END:STANDARD
END:VTIMEZONE
BEGIN:VEVENT
DTSTART;TZID=Europe/London:20260430T090000
DTEND;TZID=Europe/London:20260430T130000
DTSTAMP:20260424T031100
CREATED:20260103T170513Z
LAST-MODIFIED:20260103T170513Z
UID:10005661-1777539600-1777554000@www.ombersleymemorialhall.co.uk
SUMMARY:Pilates
DESCRIPTION:
URL:https://www.ombersleymemorialhall.co.uk/whatson/pilates-3/2026-04-30
LOCATION:Ombersley Memorial Hall\, Ombersley Memorial Hall\, Sandys Road\, Ombersley\, WR9 0DY
CATEGORIES:Public Events
ORGANIZER;CN="Ombersley Memorial Hall":MAILTO:bookings@ombersleymemorialhall.co.uk
END:VEVENT
BEGIN:VEVENT
DTSTART;TZID=Europe/London:20260507T090000
DTEND;TZID=Europe/London:20260507T130000
DTSTAMP:20260424T031100
CREATED:20260103T170513Z
LAST-MODIFIED:20260103T170513Z
UID:10005662-1778144400-1778158800@www.ombersleymemorialhall.co.uk
SUMMARY:Pilates
DESCRIPTION:
URL:https://www.ombersleymemorialhall.co.uk/whatson/pilates-3/2026-05-07
LOCATION:Ombersley Memorial Hall\, Ombersley Memorial Hall\, Sandys Road\, Ombersley\, WR9 0DY
CATEGORIES:Public Events
ORGANIZER;CN="Ombersley Memorial Hall":MAILTO:bookings@ombersleymemorialhall.co.uk
END:VEVENT
BEGIN:VEVENT
DTSTART;TZID=Europe/London:20260514T090000
DTEND;TZID=Europe/London:20260514T130000
DTSTAMP:20260424T031100
CREATED:20260103T170513Z
LAST-MODIFIED:20260103T170513Z
UID:10005663-1778749200-1778763600@www.ombersleymemorialhall.co.uk
SUMMARY:Pilates
DESCRIPTION:
URL:https://www.ombersleymemorialhall.co.uk/whatson/pilates-3/2026-05-14
LOCATION:Ombersley Memorial Hall\, Ombersley Memorial Hall\, Sandys Road\, Ombersley\, WR9 0DY
CATEGORIES:Public Events
ORGANIZER;CN="Ombersley Memorial Hall":MAILTO:bookings@ombersleymemorialhall.co.uk
END:VEVENT
BEGIN:VEVENT
DTSTART;TZID=Europe/London:20260521T090000
DTEND;TZID=Europe/London:20260521T130000
DTSTAMP:20260424T031100
CREATED:20260103T170513Z
LAST-MODIFIED:20260103T170513Z
UID:10005664-1779354000-1779368400@www.ombersleymemorialhall.co.uk
SUMMARY:Pilates
DESCRIPTION:
URL:https://www.ombersleymemorialhall.co.uk/whatson/pilates-3/2026-05-21
LOCATION:Ombersley Memorial Hall\, Ombersley Memorial Hall\, Sandys Road\, Ombersley\, WR9 0DY
CATEGORIES:Public Events
ORGANIZER;CN="Ombersley Memorial Hall":MAILTO:bookings@ombersleymemorialhall.co.uk
END:VEVENT
BEGIN:VEVENT
DTSTART;TZID=Europe/London:20260528T090000
DTEND;TZID=Europe/London:20260528T130000
DTSTAMP:20260424T031100
CREATED:20260103T170513Z
LAST-MODIFIED:20260103T170513Z
UID:10005665-1779958800-1779973200@www.ombersleymemorialhall.co.uk
SUMMARY:Pilates
DESCRIPTION:
URL:https://www.ombersleymemorialhall.co.uk/whatson/pilates-3/2026-05-28
LOCATION:Ombersley Memorial Hall\, Ombersley Memorial Hall\, Sandys Road\, Ombersley\, WR9 0DY
CATEGORIES:Public Events
ORGANIZER;CN="Ombersley Memorial Hall":MAILTO:bookings@ombersleymemorialhall.co.uk
END:VEVENT
BEGIN:VEVENT
DTSTART;TZID=Europe/London:20260604T090000
DTEND;TZID=Europe/London:20260604T130000
DTSTAMP:20260424T031100
CREATED:20260103T170513Z
LAST-MODIFIED:20260103T170513Z
UID:10005666-1780563600-1780578000@www.ombersleymemorialhall.co.uk
SUMMARY:Pilates
DESCRIPTION:
URL:https://www.ombersleymemorialhall.co.uk/whatson/pilates-3/2026-06-04
LOCATION:Ombersley Memorial Hall\, Ombersley Memorial Hall\, Sandys Road\, Ombersley\, WR9 0DY
CATEGORIES:Public Events
ORGANIZER;CN="Ombersley Memorial Hall":MAILTO:bookings@ombersleymemorialhall.co.uk
END:VEVENT
BEGIN:VEVENT
DTSTART;TZID=Europe/London:20260611T090000
DTEND;TZID=Europe/London:20260611T130000
DTSTAMP:20260424T031100
CREATED:20260103T170513Z
LAST-MODIFIED:20260103T170513Z
UID:10005667-1781168400-1781182800@www.ombersleymemorialhall.co.uk
SUMMARY:Pilates
DESCRIPTION:
URL:https://www.ombersleymemorialhall.co.uk/whatson/pilates-3/2026-06-11
LOCATION:Ombersley Memorial Hall\, Ombersley Memorial Hall\, Sandys Road\, Ombersley\, WR9 0DY
CATEGORIES:Public Events
ORGANIZER;CN="Ombersley Memorial Hall":MAILTO:bookings@ombersleymemorialhall.co.uk
END:VEVENT
BEGIN:VEVENT
DTSTART;TZID=Europe/London:20260618T090000
DTEND;TZID=Europe/London:20260618T130000
DTSTAMP:20260424T031100
CREATED:20260103T170513Z
LAST-MODIFIED:20260103T170513Z
UID:10005668-1781773200-1781787600@www.ombersleymemorialhall.co.uk
SUMMARY:Pilates
DESCRIPTION:
URL:https://www.ombersleymemorialhall.co.uk/whatson/pilates-3/2026-06-18
LOCATION:Ombersley Memorial Hall\, Ombersley Memorial Hall\, Sandys Road\, Ombersley\, WR9 0DY
CATEGORIES:Public Events
ORGANIZER;CN="Ombersley Memorial Hall":MAILTO:bookings@ombersleymemorialhall.co.uk
END:VEVENT
BEGIN:VEVENT
DTSTART;TZID=Europe/London:20260625T090000
DTEND;TZID=Europe/London:20260625T130000
DTSTAMP:20260424T031100
CREATED:20260103T170513Z
LAST-MODIFIED:20260103T170513Z
UID:10005669-1782378000-1782392400@www.ombersleymemorialhall.co.uk
SUMMARY:Pilates
DESCRIPTION:
URL:https://www.ombersleymemorialhall.co.uk/whatson/pilates-3/2026-06-25
LOCATION:Ombersley Memorial Hall\, Ombersley Memorial Hall\, Sandys Road\, Ombersley\, WR9 0DY
CATEGORIES:Public Events
ORGANIZER;CN="Ombersley Memorial Hall":MAILTO:bookings@ombersleymemorialhall.co.uk
END:VEVENT
BEGIN:VEVENT
DTSTART;TZID=Europe/London:20260702T090000
DTEND;TZID=Europe/London:20260702T130000
DTSTAMP:20260424T031100
CREATED:20260103T170513Z
LAST-MODIFIED:20260103T170513Z
UID:10005670-1782982800-1782997200@www.ombersleymemorialhall.co.uk
SUMMARY:Pilates
DESCRIPTION:
URL:https://www.ombersleymemorialhall.co.uk/whatson/pilates-3/2026-07-02
LOCATION:Ombersley Memorial Hall\, Ombersley Memorial Hall\, Sandys Road\, Ombersley\, WR9 0DY
CATEGORIES:Public Events
ORGANIZER;CN="Ombersley Memorial Hall":MAILTO:bookings@ombersleymemorialhall.co.uk
END:VEVENT
BEGIN:VEVENT
DTSTART;TZID=Europe/London:20260709T090000
DTEND;TZID=Europe/London:20260709T130000
DTSTAMP:20260424T031100
CREATED:20260103T170513Z
LAST-MODIFIED:20260103T170513Z
UID:10005671-1783587600-1783602000@www.ombersleymemorialhall.co.uk
SUMMARY:Pilates
DESCRIPTION:
URL:https://www.ombersleymemorialhall.co.uk/whatson/pilates-3/2026-07-09
LOCATION:Ombersley Memorial Hall\, Ombersley Memorial Hall\, Sandys Road\, Ombersley\, WR9 0DY
CATEGORIES:Public Events
ORGANIZER;CN="Ombersley Memorial Hall":MAILTO:bookings@ombersleymemorialhall.co.uk
END:VEVENT
BEGIN:VEVENT
DTSTART;TZID=Europe/London:20260716T090000
DTEND;TZID=Europe/London:20260716T130000
DTSTAMP:20260424T031100
CREATED:20260103T170513Z
LAST-MODIFIED:20260103T170513Z
UID:10005672-1784192400-1784206800@www.ombersleymemorialhall.co.uk
SUMMARY:Pilates
DESCRIPTION:
URL:https://www.ombersleymemorialhall.co.uk/whatson/pilates-3/2026-07-16
LOCATION:Ombersley Memorial Hall\, Ombersley Memorial Hall\, Sandys Road\, Ombersley\, WR9 0DY
CATEGORIES:Public Events
ORGANIZER;CN="Ombersley Memorial Hall":MAILTO:bookings@ombersleymemorialhall.co.uk
END:VEVENT
BEGIN:VEVENT
DTSTART;TZID=Europe/London:20260723T090000
DTEND;TZID=Europe/London:20260723T130000
DTSTAMP:20260424T031100
CREATED:20260103T170513Z
LAST-MODIFIED:20260103T170513Z
UID:10005673-1784797200-1784811600@www.ombersleymemorialhall.co.uk
SUMMARY:Pilates
DESCRIPTION:
URL:https://www.ombersleymemorialhall.co.uk/whatson/pilates-3/2026-07-23
LOCATION:Ombersley Memorial Hall\, Ombersley Memorial Hall\, Sandys Road\, Ombersley\, WR9 0DY
CATEGORIES:Public Events
ORGANIZER;CN="Ombersley Memorial Hall":MAILTO:bookings@ombersleymemorialhall.co.uk
END:VEVENT
BEGIN:VEVENT
DTSTART;TZID=Europe/London:20260730T090000
DTEND;TZID=Europe/London:20260730T130000
DTSTAMP:20260424T031100
CREATED:20260103T170513Z
LAST-MODIFIED:20260103T170513Z
UID:10005674-1785402000-1785416400@www.ombersleymemorialhall.co.uk
SUMMARY:Pilates
DESCRIPTION:
URL:https://www.ombersleymemorialhall.co.uk/whatson/pilates-3/2026-07-30
LOCATION:Ombersley Memorial Hall\, Ombersley Memorial Hall\, Sandys Road\, Ombersley\, WR9 0DY
CATEGORIES:Public Events
ORGANIZER;CN="Ombersley Memorial Hall":MAILTO:bookings@ombersleymemorialhall.co.uk
END:VEVENT
BEGIN:VEVENT
DTSTART;TZID=Europe/London:20260806T090000
DTEND;TZID=Europe/London:20260806T130000
DTSTAMP:20260424T031100
CREATED:20260103T170513Z
LAST-MODIFIED:20260103T170513Z
UID:10005675-1786006800-1786021200@www.ombersleymemorialhall.co.uk
SUMMARY:Pilates
DESCRIPTION:
URL:https://www.ombersleymemorialhall.co.uk/whatson/pilates-3/2026-08-06
LOCATION:Ombersley Memorial Hall\, Ombersley Memorial Hall\, Sandys Road\, Ombersley\, WR9 0DY
CATEGORIES:Public Events
ORGANIZER;CN="Ombersley Memorial Hall":MAILTO:bookings@ombersleymemorialhall.co.uk
END:VEVENT
BEGIN:VEVENT
DTSTART;TZID=Europe/London:20260813T090000
DTEND;TZID=Europe/London:20260813T130000
DTSTAMP:20260424T031100
CREATED:20260103T170513Z
LAST-MODIFIED:20260103T170513Z
UID:10005676-1786611600-1786626000@www.ombersleymemorialhall.co.uk
SUMMARY:Pilates
DESCRIPTION:
URL:https://www.ombersleymemorialhall.co.uk/whatson/pilates-3/2026-08-13
LOCATION:Ombersley Memorial Hall\, Ombersley Memorial Hall\, Sandys Road\, Ombersley\, WR9 0DY
CATEGORIES:Public Events
ORGANIZER;CN="Ombersley Memorial Hall":MAILTO:bookings@ombersleymemorialhall.co.uk
END:VEVENT
BEGIN:VEVENT
DTSTART;TZID=Europe/London:20260820T090000
DTEND;TZID=Europe/London:20260820T130000
DTSTAMP:20260424T031100
CREATED:20260103T170513Z
LAST-MODIFIED:20260103T170513Z
UID:10005677-1787216400-1787230800@www.ombersleymemorialhall.co.uk
SUMMARY:Pilates
DESCRIPTION:
URL:https://www.ombersleymemorialhall.co.uk/whatson/pilates-3/2026-08-20
LOCATION:Ombersley Memorial Hall\, Ombersley Memorial Hall\, Sandys Road\, Ombersley\, WR9 0DY
CATEGORIES:Public Events
ORGANIZER;CN="Ombersley Memorial Hall":MAILTO:bookings@ombersleymemorialhall.co.uk
END:VEVENT
BEGIN:VEVENT
DTSTART;TZID=Europe/London:20260827T090000
DTEND;TZID=Europe/London:20260827T130000
DTSTAMP:20260424T031100
CREATED:20260103T170513Z
LAST-MODIFIED:20260103T170513Z
UID:10005678-1787821200-1787835600@www.ombersleymemorialhall.co.uk
SUMMARY:Pilates
DESCRIPTION:
URL:https://www.ombersleymemorialhall.co.uk/whatson/pilates-3/2026-08-27
LOCATION:Ombersley Memorial Hall\, Ombersley Memorial Hall\, Sandys Road\, Ombersley\, WR9 0DY
CATEGORIES:Public Events
ORGANIZER;CN="Ombersley Memorial Hall":MAILTO:bookings@ombersleymemorialhall.co.uk
END:VEVENT
BEGIN:VEVENT
DTSTART;TZID=Europe/London:20260903T090000
DTEND;TZID=Europe/London:20260903T130000
DTSTAMP:20260424T031100
CREATED:20260103T170513Z
LAST-MODIFIED:20260103T170513Z
UID:10005679-1788426000-1788440400@www.ombersleymemorialhall.co.uk
SUMMARY:Pilates
DESCRIPTION:
URL:https://www.ombersleymemorialhall.co.uk/whatson/pilates-3/2026-09-03
LOCATION:Ombersley Memorial Hall\, Ombersley Memorial Hall\, Sandys Road\, Ombersley\, WR9 0DY
CATEGORIES:Public Events
ORGANIZER;CN="Ombersley Memorial Hall":MAILTO:bookings@ombersleymemorialhall.co.uk
END:VEVENT
BEGIN:VEVENT
DTSTART;TZID=Europe/London:20260910T090000
DTEND;TZID=Europe/London:20260910T130000
DTSTAMP:20260424T031100
CREATED:20260103T170513Z
LAST-MODIFIED:20260103T170513Z
UID:10005680-1789030800-1789045200@www.ombersleymemorialhall.co.uk
SUMMARY:Pilates
DESCRIPTION:
URL:https://www.ombersleymemorialhall.co.uk/whatson/pilates-3/2026-09-10
LOCATION:Ombersley Memorial Hall\, Ombersley Memorial Hall\, Sandys Road\, Ombersley\, WR9 0DY
CATEGORIES:Public Events
ORGANIZER;CN="Ombersley Memorial Hall":MAILTO:bookings@ombersleymemorialhall.co.uk
END:VEVENT
BEGIN:VEVENT
DTSTART;TZID=Europe/London:20260917T090000
DTEND;TZID=Europe/London:20260917T130000
DTSTAMP:20260424T031100
CREATED:20260103T170513Z
LAST-MODIFIED:20260103T170513Z
UID:10005681-1789635600-1789650000@www.ombersleymemorialhall.co.uk
SUMMARY:Pilates
DESCRIPTION:
URL:https://www.ombersleymemorialhall.co.uk/whatson/pilates-3/2026-09-17
LOCATION:Ombersley Memorial Hall\, Ombersley Memorial Hall\, Sandys Road\, Ombersley\, WR9 0DY
CATEGORIES:Public Events
ORGANIZER;CN="Ombersley Memorial Hall":MAILTO:bookings@ombersleymemorialhall.co.uk
END:VEVENT
BEGIN:VEVENT
DTSTART;TZID=Europe/London:20260924T090000
DTEND;TZID=Europe/London:20260924T130000
DTSTAMP:20260424T031100
CREATED:20260103T170513Z
LAST-MODIFIED:20260103T170513Z
UID:10005682-1790240400-1790254800@www.ombersleymemorialhall.co.uk
SUMMARY:Pilates
DESCRIPTION:
URL:https://www.ombersleymemorialhall.co.uk/whatson/pilates-3/2026-09-24
LOCATION:Ombersley Memorial Hall\, Ombersley Memorial Hall\, Sandys Road\, Ombersley\, WR9 0DY
CATEGORIES:Public Events
ORGANIZER;CN="Ombersley Memorial Hall":MAILTO:bookings@ombersleymemorialhall.co.uk
END:VEVENT
BEGIN:VEVENT
DTSTART;TZID=Europe/London:20261001T090000
DTEND;TZID=Europe/London:20261001T130000
DTSTAMP:20260424T031100
CREATED:20260103T170513Z
LAST-MODIFIED:20260103T170513Z
UID:10005683-1790845200-1790859600@www.ombersleymemorialhall.co.uk
SUMMARY:Pilates
DESCRIPTION:
URL:https://www.ombersleymemorialhall.co.uk/whatson/pilates-3/2026-10-01
LOCATION:Ombersley Memorial Hall\, Ombersley Memorial Hall\, Sandys Road\, Ombersley\, WR9 0DY
CATEGORIES:Public Events
ORGANIZER;CN="Ombersley Memorial Hall":MAILTO:bookings@ombersleymemorialhall.co.uk
END:VEVENT
BEGIN:VEVENT
DTSTART;TZID=Europe/London:20261008T090000
DTEND;TZID=Europe/London:20261008T130000
DTSTAMP:20260424T031100
CREATED:20260103T170513Z
LAST-MODIFIED:20260103T170513Z
UID:10005684-1791450000-1791464400@www.ombersleymemorialhall.co.uk
SUMMARY:Pilates
DESCRIPTION:
URL:https://www.ombersleymemorialhall.co.uk/whatson/pilates-3/2026-10-08
LOCATION:Ombersley Memorial Hall\, Ombersley Memorial Hall\, Sandys Road\, Ombersley\, WR9 0DY
CATEGORIES:Public Events
ORGANIZER;CN="Ombersley Memorial Hall":MAILTO:bookings@ombersleymemorialhall.co.uk
END:VEVENT
BEGIN:VEVENT
DTSTART;TZID=Europe/London:20261015T090000
DTEND;TZID=Europe/London:20261015T130000
DTSTAMP:20260424T031100
CREATED:20260103T170513Z
LAST-MODIFIED:20260103T170513Z
UID:10005685-1792054800-1792069200@www.ombersleymemorialhall.co.uk
SUMMARY:Pilates
DESCRIPTION:
URL:https://www.ombersleymemorialhall.co.uk/whatson/pilates-3/2026-10-15
LOCATION:Ombersley Memorial Hall\, Ombersley Memorial Hall\, Sandys Road\, Ombersley\, WR9 0DY
CATEGORIES:Public Events
ORGANIZER;CN="Ombersley Memorial Hall":MAILTO:bookings@ombersleymemorialhall.co.uk
END:VEVENT
BEGIN:VEVENT
DTSTART;TZID=Europe/London:20261022T090000
DTEND;TZID=Europe/London:20261022T130000
DTSTAMP:20260424T031100
CREATED:20260103T170513Z
LAST-MODIFIED:20260103T170513Z
UID:10005686-1792659600-1792674000@www.ombersleymemorialhall.co.uk
SUMMARY:Pilates
DESCRIPTION:
URL:https://www.ombersleymemorialhall.co.uk/whatson/pilates-3/2026-10-22
LOCATION:Ombersley Memorial Hall\, Ombersley Memorial Hall\, Sandys Road\, Ombersley\, WR9 0DY
CATEGORIES:Public Events
ORGANIZER;CN="Ombersley Memorial Hall":MAILTO:bookings@ombersleymemorialhall.co.uk
END:VEVENT
BEGIN:VEVENT
DTSTART;TZID=Europe/London:20261029T090000
DTEND;TZID=Europe/London:20261029T130000
DTSTAMP:20260424T031100
CREATED:20260103T170513Z
LAST-MODIFIED:20260103T170513Z
UID:10005687-1793264400-1793278800@www.ombersleymemorialhall.co.uk
SUMMARY:Pilates
DESCRIPTION:
URL:https://www.ombersleymemorialhall.co.uk/whatson/pilates-3/2026-10-29
LOCATION:Ombersley Memorial Hall\, Ombersley Memorial Hall\, Sandys Road\, Ombersley\, WR9 0DY
CATEGORIES:Public Events
ORGANIZER;CN="Ombersley Memorial Hall":MAILTO:bookings@ombersleymemorialhall.co.uk
END:VEVENT
BEGIN:VEVENT
DTSTART;TZID=Europe/London:20261105T090000
DTEND;TZID=Europe/London:20261105T130000
DTSTAMP:20260424T031100
CREATED:20260103T170513Z
LAST-MODIFIED:20260103T170513Z
UID:10005688-1793869200-1793883600@www.ombersleymemorialhall.co.uk
SUMMARY:Pilates
DESCRIPTION:
URL:https://www.ombersleymemorialhall.co.uk/whatson/pilates-3/2026-11-05
LOCATION:Ombersley Memorial Hall\, Ombersley Memorial Hall\, Sandys Road\, Ombersley\, WR9 0DY
CATEGORIES:Public Events
ORGANIZER;CN="Ombersley Memorial Hall":MAILTO:bookings@ombersleymemorialhall.co.uk
END:VEVENT
BEGIN:VEVENT
DTSTART;TZID=Europe/London:20261112T090000
DTEND;TZID=Europe/London:20261112T130000
DTSTAMP:20260424T031100
CREATED:20260103T170513Z
LAST-MODIFIED:20260103T170513Z
UID:10005689-1794474000-1794488400@www.ombersleymemorialhall.co.uk
SUMMARY:Pilates
DESCRIPTION:
URL:https://www.ombersleymemorialhall.co.uk/whatson/pilates-3/2026-11-12
LOCATION:Ombersley Memorial Hall\, Ombersley Memorial Hall\, Sandys Road\, Ombersley\, WR9 0DY
CATEGORIES:Public Events
ORGANIZER;CN="Ombersley Memorial Hall":MAILTO:bookings@ombersleymemorialhall.co.uk
END:VEVENT
BEGIN:VEVENT
DTSTART;TZID=Europe/London:20261119T090000
DTEND;TZID=Europe/London:20261119T130000
DTSTAMP:20260424T031100
CREATED:20260103T170513Z
LAST-MODIFIED:20260103T170513Z
UID:10005690-1795078800-1795093200@www.ombersleymemorialhall.co.uk
SUMMARY:Pilates
DESCRIPTION:
URL:https://www.ombersleymemorialhall.co.uk/whatson/pilates-3/2026-11-19
LOCATION:Ombersley Memorial Hall\, Ombersley Memorial Hall\, Sandys Road\, Ombersley\, WR9 0DY
CATEGORIES:Public Events
ORGANIZER;CN="Ombersley Memorial Hall":MAILTO:bookings@ombersleymemorialhall.co.uk
END:VEVENT
END:VCALENDAR