BEGIN:VCALENDAR
VERSION:2.0
PRODID:-//Ombersley Memorial Village Hall - ECPv6.15.20//NONSGML v1.0//EN
CALSCALE:GREGORIAN
METHOD:PUBLISH
X-WR-CALNAME:Ombersley Memorial Village Hall
X-ORIGINAL-URL:https://www.ombersleymemorialhall.co.uk
X-WR-CALDESC:Events for Ombersley Memorial Village Hall
REFRESH-INTERVAL;VALUE=DURATION:PT1H
X-Robots-Tag:noindex
X-PUBLISHED-TTL:PT1H
BEGIN:VTIMEZONE
TZID:Europe/London
BEGIN:DAYLIGHT
TZOFFSETFROM:+0000
TZOFFSETTO:+0100
TZNAME:BST
DTSTART:20250330T010000
END:DAYLIGHT
BEGIN:STANDARD
TZOFFSETFROM:+0100
TZOFFSETTO:+0000
TZNAME:GMT
DTSTART:20251026T010000
END:STANDARD
BEGIN:DAYLIGHT
TZOFFSETFROM:+0000
TZOFFSETTO:+0100
TZNAME:BST
DTSTART:20260329T010000
END:DAYLIGHT
BEGIN:STANDARD
TZOFFSETFROM:+0100
TZOFFSETTO:+0000
TZNAME:GMT
DTSTART:20261025T010000
END:STANDARD
BEGIN:DAYLIGHT
TZOFFSETFROM:+0000
TZOFFSETTO:+0100
TZNAME:BST
DTSTART:20270328T010000
END:DAYLIGHT
BEGIN:STANDARD
TZOFFSETFROM:+0100
TZOFFSETTO:+0000
TZNAME:GMT
DTSTART:20271031T010000
END:STANDARD
END:VTIMEZONE
BEGIN:VEVENT
DTSTART;TZID=Europe/London:20260506T130000
DTEND;TZID=Europe/London:20260506T170000
DTSTAMP:20260421T062258
CREATED:20260103T163654Z
LAST-MODIFIED:20260103T164011Z
UID:10005263-1778072400-1778086800@www.ombersleymemorialhall.co.uk
SUMMARY:Bridge
DESCRIPTION:
URL:https://www.ombersleymemorialhall.co.uk/whatson/bridge/2026-05-06
LOCATION:Ombersley Memorial Hall\, Ombersley Memorial Hall\, Sandys Road\, Ombersley\, WR9 0DY
CATEGORIES:Public Events
ORGANIZER;CN="Ombersley Memorial Hall":MAILTO:bookings@ombersleymemorialhall.co.uk
END:VEVENT
BEGIN:VEVENT
DTSTART;TZID=Europe/London:20260603T130000
DTEND;TZID=Europe/London:20260603T170000
DTSTAMP:20260421T062258
CREATED:20260103T163654Z
LAST-MODIFIED:20260103T164011Z
UID:10005267-1780491600-1780506000@www.ombersleymemorialhall.co.uk
SUMMARY:Bridge
DESCRIPTION:
URL:https://www.ombersleymemorialhall.co.uk/whatson/bridge/2026-06-03
LOCATION:Ombersley Memorial Hall\, Ombersley Memorial Hall\, Sandys Road\, Ombersley\, WR9 0DY
CATEGORIES:Public Events
ORGANIZER;CN="Ombersley Memorial Hall":MAILTO:bookings@ombersleymemorialhall.co.uk
END:VEVENT
BEGIN:VEVENT
DTSTART;TZID=Europe/London:20260701T130000
DTEND;TZID=Europe/London:20260701T170000
DTSTAMP:20260421T062258
CREATED:20260103T163654Z
LAST-MODIFIED:20260103T164011Z
UID:10005271-1782910800-1782925200@www.ombersleymemorialhall.co.uk
SUMMARY:Bridge
DESCRIPTION:
URL:https://www.ombersleymemorialhall.co.uk/whatson/bridge/2026-07-01
LOCATION:Ombersley Memorial Hall\, Ombersley Memorial Hall\, Sandys Road\, Ombersley\, WR9 0DY
CATEGORIES:Public Events
ORGANIZER;CN="Ombersley Memorial Hall":MAILTO:bookings@ombersleymemorialhall.co.uk
END:VEVENT
BEGIN:VEVENT
DTSTART;TZID=Europe/London:20260805T130000
DTEND;TZID=Europe/London:20260805T170000
DTSTAMP:20260421T062258
CREATED:20260103T163654Z
LAST-MODIFIED:20260103T164011Z
UID:10005276-1785934800-1785949200@www.ombersleymemorialhall.co.uk
SUMMARY:Bridge
DESCRIPTION:
URL:https://www.ombersleymemorialhall.co.uk/whatson/bridge/2026-08-05
LOCATION:Ombersley Memorial Hall\, Ombersley Memorial Hall\, Sandys Road\, Ombersley\, WR9 0DY
CATEGORIES:Public Events
ORGANIZER;CN="Ombersley Memorial Hall":MAILTO:bookings@ombersleymemorialhall.co.uk
END:VEVENT
BEGIN:VEVENT
DTSTART;TZID=Europe/London:20260902T130000
DTEND;TZID=Europe/London:20260902T170000
DTSTAMP:20260421T062258
CREATED:20260103T163654Z
LAST-MODIFIED:20260103T164011Z
UID:10005280-1788354000-1788368400@www.ombersleymemorialhall.co.uk
SUMMARY:Bridge
DESCRIPTION:
URL:https://www.ombersleymemorialhall.co.uk/whatson/bridge/2026-09-02
LOCATION:Ombersley Memorial Hall\, Ombersley Memorial Hall\, Sandys Road\, Ombersley\, WR9 0DY
CATEGORIES:Public Events
ORGANIZER;CN="Ombersley Memorial Hall":MAILTO:bookings@ombersleymemorialhall.co.uk
END:VEVENT
BEGIN:VEVENT
DTSTART;TZID=Europe/London:20261007T130000
DTEND;TZID=Europe/London:20261007T170000
DTSTAMP:20260421T062258
CREATED:20260103T163654Z
LAST-MODIFIED:20260103T164011Z
UID:10005285-1791378000-1791392400@www.ombersleymemorialhall.co.uk
SUMMARY:Bridge
DESCRIPTION:
URL:https://www.ombersleymemorialhall.co.uk/whatson/bridge/2026-10-07
LOCATION:Ombersley Memorial Hall\, Ombersley Memorial Hall\, Sandys Road\, Ombersley\, WR9 0DY
CATEGORIES:Public Events
ORGANIZER;CN="Ombersley Memorial Hall":MAILTO:bookings@ombersleymemorialhall.co.uk
END:VEVENT
BEGIN:VEVENT
DTSTART;TZID=Europe/London:20261104T130000
DTEND;TZID=Europe/London:20261104T170000
DTSTAMP:20260421T062258
CREATED:20260103T163654Z
LAST-MODIFIED:20260103T164011Z
UID:10005289-1793797200-1793811600@www.ombersleymemorialhall.co.uk
SUMMARY:Bridge
DESCRIPTION:
URL:https://www.ombersleymemorialhall.co.uk/whatson/bridge/2026-11-04
LOCATION:Ombersley Memorial Hall\, Ombersley Memorial Hall\, Sandys Road\, Ombersley\, WR9 0DY
CATEGORIES:Public Events
ORGANIZER;CN="Ombersley Memorial Hall":MAILTO:bookings@ombersleymemorialhall.co.uk
END:VEVENT
BEGIN:VEVENT
DTSTART;TZID=Europe/London:20261202T130000
DTEND;TZID=Europe/London:20261202T170000
DTSTAMP:20260421T062258
CREATED:20260103T163654Z
LAST-MODIFIED:20260103T164011Z
UID:10005293-1796216400-1796230800@www.ombersleymemorialhall.co.uk
SUMMARY:Bridge
DESCRIPTION:
URL:https://www.ombersleymemorialhall.co.uk/whatson/bridge/2026-12-02
LOCATION:Ombersley Memorial Hall\, Ombersley Memorial Hall\, Sandys Road\, Ombersley\, WR9 0DY
CATEGORIES:Public Events
ORGANIZER;CN="Ombersley Memorial Hall":MAILTO:bookings@ombersleymemorialhall.co.uk
END:VEVENT
END:VCALENDAR