BEGIN:VCALENDAR
VERSION:2.0
PRODID:-//Ombersley Memorial Village Hall - ECPv6.15.20//NONSGML v1.0//EN
CALSCALE:GREGORIAN
METHOD:PUBLISH
X-WR-CALNAME:Ombersley Memorial Village Hall
X-ORIGINAL-URL:https://www.ombersleymemorialhall.co.uk
X-WR-CALDESC:Events for Ombersley Memorial Village Hall
REFRESH-INTERVAL;VALUE=DURATION:PT1H
X-Robots-Tag:noindex
X-PUBLISHED-TTL:PT1H
BEGIN:VTIMEZONE
TZID:Europe/London
BEGIN:DAYLIGHT
TZOFFSETFROM:+0000
TZOFFSETTO:+0100
TZNAME:BST
DTSTART:20250330T010000
END:DAYLIGHT
BEGIN:STANDARD
TZOFFSETFROM:+0100
TZOFFSETTO:+0000
TZNAME:GMT
DTSTART:20251026T010000
END:STANDARD
BEGIN:DAYLIGHT
TZOFFSETFROM:+0000
TZOFFSETTO:+0100
TZNAME:BST
DTSTART:20260329T010000
END:DAYLIGHT
BEGIN:STANDARD
TZOFFSETFROM:+0100
TZOFFSETTO:+0000
TZNAME:GMT
DTSTART:20261025T010000
END:STANDARD
BEGIN:DAYLIGHT
TZOFFSETFROM:+0000
TZOFFSETTO:+0100
TZNAME:BST
DTSTART:20270328T010000
END:DAYLIGHT
BEGIN:STANDARD
TZOFFSETFROM:+0100
TZOFFSETTO:+0000
TZNAME:GMT
DTSTART:20271031T010000
END:STANDARD
END:VTIMEZONE
BEGIN:VEVENT
DTSTART;TZID=Europe/London:20260312T090000
DTEND;TZID=Europe/London:20260312T130000
DTSTAMP:20260421T080734
CREATED:20260103T170513Z
LAST-MODIFIED:20260103T170513Z
UID:10005654-1773306000-1773320400@www.ombersleymemorialhall.co.uk
SUMMARY:Pilates
DESCRIPTION:
URL:https://www.ombersleymemorialhall.co.uk/whatson/pilates-3/2026-03-12
LOCATION:Ombersley Memorial Hall\, Ombersley Memorial Hall\, Sandys Road\, Ombersley\, WR9 0DY
CATEGORIES:Public Events
ORGANIZER;CN="Ombersley Memorial Hall":MAILTO:bookings@ombersleymemorialhall.co.uk
END:VEVENT
BEGIN:VEVENT
DTSTART;TZID=Europe/London:20260312T200000
DTEND;TZID=Europe/London:20260312T210000
DTSTAMP:20260421T080734
CREATED:20260218T142317Z
LAST-MODIFIED:20260218T142317Z
UID:10005857-1773345600-1773349200@www.ombersleymemorialhall.co.uk
SUMMARY:Boot Camp
DESCRIPTION:
URL:https://www.ombersleymemorialhall.co.uk/whatson/boot-camp-4
LOCATION:Ombersley Memorial Hall\, Ombersley Memorial Hall\, Sandys Road\, Ombersley\, WR9 0DY
CATEGORIES:Public Events
ORGANIZER;CN="Ombersley Memorial Hall":MAILTO:bookings@ombersleymemorialhall.co.uk
END:VEVENT
END:VCALENDAR